BEGIN:VCALENDAR
VERSION:2.0
PRODID:-//Guia Na Dança - Augsburg - ECPv6.15.20//NONSGML v1.0//EN
CALSCALE:GREGORIAN
METHOD:PUBLISH
X-WR-CALNAME:Guia Na Dança - Augsburg
X-ORIGINAL-URL:https://guianadanca-augsburg.com
X-WR-CALDESC:Veranstaltungen für Guia Na Dança - Augsburg
REFRESH-INTERVAL;VALUE=DURATION:PT1H
X-Robots-Tag:noindex
X-PUBLISHED-TTL:PT1H
BEGIN:VTIMEZONE
TZID:UTC
BEGIN:STANDARD
TZOFFSETFROM:+0000
TZOFFSETTO:+0000
TZNAME:UTC
DTSTART:20240101T000000
END:STANDARD
END:VTIMEZONE
BEGIN:VEVENT
DTSTART;TZID=UTC:20250621T183000
DTEND;TZID=UTC:20250622T010000
DTSTAMP:20260419T125932
CREATED:20250311T231449Z
LAST-MODIFIED:20250627T070841Z
UID:420-1750530600-1750554000@guianadanca-augsburg.com
SUMMARY:La Noche ELEGANTE
DESCRIPTION:
URL:https://guianadanca-augsburg.com/event/la-noche-elegante-29-march-2025/
LOCATION:Cantina Charlotta (Kaufering)\, Igliger Straße 1\, Kaufering\, Bayern\, 86916\, Germany
CATEGORIES:Workshop + Tanzparty
ORGANIZER;CN="Cantina Charlotta":MAILTO:kontakt@cantina-charlotta.de
END:VEVENT
END:VCALENDAR